BEGIN:VCALENDAR
VERSION:2.0
PRODID:-//wp-events-plugin.com//7.2.3.1//EN
TZID:America/Los_Angeles
X-WR-TIMEZONE:America/Los_Angeles
BEGIN:VEVENT
UID:375@roguevalleyflyingclub.org
DTSTART;TZID=America/Los_Angeles:20251214T170000
DTEND;TZID=America/Los_Angeles:20251214T220000
DTSTAMP:20250404T232320Z
URL:https://roguevalleyflyingclub.org/events/holiday-party/
SUMMARY:Holiday Party
DESCRIPTION:This is the annual holiday party for RVFC members.
LOCATION:Centennial Golf Course\, 1900 North Phoenix Road\, Medford\, OR\, 
 97504\, United States
X-APPLE-STRUCTURED-LOCATION;VALUE=URI;X-ADDRESS=1900 North Phoenix Road\, M
 edford\, OR\, 97504\, United States;X-APPLE-RADIUS=100;X-TITLE=Centennial 
 Golf Course:geo:0,0
END:VEVENT
BEGIN:VTIMEZONE
TZID:America/Los_Angeles
X-LIC-LOCATION:America/Los_Angeles
BEGIN:STANDARD
DTSTART:20251102T010000
TZOFFSETFROM:-0700
TZOFFSETTO:-0800
TZNAME:PST
END:STANDARD
END:VTIMEZONE
END:VCALENDAR