BEGIN:VCALENDAR
VERSION:2.0
PRODID:-//wp-events-plugin.com//7.2.3.1//EN
TZID:America/Los_Angeles
X-WR-TIMEZONE:America/Los_Angeles
BEGIN:VEVENT
UID:380@roguevalleyflyingclub.org
DTSTART;TZID=America/Los_Angeles:20251120T120000
DTEND;TZID=America/Los_Angeles:20251120T130000
DTSTAMP:20251117T014225Z
URL:https://roguevalleyflyingclub.org/events/membership-lunch-meeting-noaa
 /
SUMMARY:Membership Lunch Meeting @ NOAA
DESCRIPTION:Join RVFC members for a tour of the Medford NOAA facility. Memb
 ers RSVP here for Pizza - https://maps.app.goo.gl/eSChhfpaxZM1zUny5
LOCATION:Medford NOAA\, 4003 Cirrus Drive\, Medford\, Oregon\, 97501\, Unit
 ed States
X-APPLE-STRUCTURED-LOCATION;VALUE=URI;X-ADDRESS=4003 Cirrus Drive\, Medford
 \, Oregon\, 97501\, United States;X-APPLE-RADIUS=100;X-TITLE=Medford NOAA:
 geo:0,0
END:VEVENT
BEGIN:VTIMEZONE
TZID:America/Los_Angeles
X-LIC-LOCATION:America/Los_Angeles
BEGIN:STANDARD
DTSTART:20251102T010000
TZOFFSETFROM:-0700
TZOFFSETTO:-0800
TZNAME:PST
END:STANDARD
END:VTIMEZONE
END:VCALENDAR